BEGIN:VCALENDAR
VERSION:2.0
PRODID:-//East Tennessee&#039;s Own WDVX - ECPv6.15.3//NONSGML v1.0//EN
CALSCALE:GREGORIAN
METHOD:PUBLISH
X-WR-CALNAME:East Tennessee&#039;s Own WDVX
X-ORIGINAL-URL:https://wdvx.com
X-WR-CALDESC:Events for East Tennessee&#039;s Own WDVX
REFRESH-INTERVAL;VALUE=DURATION:PT1H
X-Robots-Tag:noindex
X-PUBLISHED-TTL:PT1H
BEGIN:VTIMEZONE
TZID:America/New_York
BEGIN:DAYLIGHT
TZOFFSETFROM:-0500
TZOFFSETTO:-0400
TZNAME:EDT
DTSTART:20250309T070000
END:DAYLIGHT
BEGIN:STANDARD
TZOFFSETFROM:-0400
TZOFFSETTO:-0500
TZNAME:EST
DTSTART:20251102T060000
END:STANDARD
END:VTIMEZONE
BEGIN:VEVENT
DTSTART;TZID=America/New_York:20250704T150000
DTEND;TZID=America/New_York:20250704T150000
DTSTAMP:20260423T093348
CREATED:20250702T122249Z
LAST-MODIFIED:20250703T182251Z
UID:10081837-1751641200-1751641200@wdvx.com
SUMMARY:Tune in! Mic Harrison & the High Score world premiere for the new song “Dallas Sutton\,”
DESCRIPTION:Be sure to tune in to WDVX’s “Local Three at 3” this Friday\, July 4th for a firecracker of a new single release by East Tennessee’s Own\, Mic Harrison and the High Score! It’s the world premiere for the song “Dallas Sutton\,” the first single to drop from the upcoming new LP ‘Peach Blossom Youth\,’ which was produced by Eric “Roscoe” Ambel\, and will be released later this fall! So\, tune in July 4th at 3 p.m. for radio fireworks and the debut of the new Mic Harrison and the High Score single\, and stay tuned for more info to come from your friends at WDVX!
URL:https://wdvx.com/event/mic-harrison-the-high-score/
LOCATION:Tune In
CATEGORIES:Featured Events
ATTACH;FMTTYPE=image/jpeg:https://wdvx.com/site/wp-content/uploads/2025/07/MIC-HARRISON-16X10-2.jpg
ORGANIZER;CN="WDVX":MAILTO:info@wdvx.com
END:VEVENT
END:VCALENDAR