BEGIN:VCALENDAR
VERSION:2.0
PRODID:-//East Tennessee&#039;s Own WDVX - ECPv6.15.3//NONSGML v1.0//EN
CALSCALE:GREGORIAN
METHOD:PUBLISH
X-WR-CALNAME:East Tennessee&#039;s Own WDVX
X-ORIGINAL-URL:https://wdvx.com
X-WR-CALDESC:Events for East Tennessee&#039;s Own WDVX
REFRESH-INTERVAL;VALUE=DURATION:PT1H
X-Robots-Tag:noindex
X-PUBLISHED-TTL:PT1H
BEGIN:VTIMEZONE
TZID:America/New_York
BEGIN:DAYLIGHT
TZOFFSETFROM:-0500
TZOFFSETTO:-0400
TZNAME:EDT
DTSTART:20260308T070000
END:DAYLIGHT
BEGIN:STANDARD
TZOFFSETFROM:-0400
TZOFFSETTO:-0500
TZNAME:EST
DTSTART:20261101T060000
END:STANDARD
END:VTIMEZONE
BEGIN:VEVENT
DTSTART;TZID=America/New_York:20260418T193000
DTEND;TZID=America/New_York:20260418T193000
DTSTAMP:20260422T093218
CREATED:20260327T150101Z
LAST-MODIFIED:20260327T150112Z
UID:10082437-1776540600-1776540600@wdvx.com
SUMMARY:Flatland Cavalry — Knoxville Civic Auditorium — 4/18
DESCRIPTION:Get Tickets Here! \nFor the past decade\, Flatland Cavalry has built a reputation as “one of the most dynamic presences in country music” (Rolling Stone) with their signature “Easy on the ears\, heavy on the heart” sound. In 2024\, the sextet celebrated 10 years together with Flatland Forever\, an acclaimed album that pays tribute to their journey\, revisiting fan favorites while introducing new songs that showcase how far they’ve come. \nThe past year has been full of milestones for the Nashville and Texas-based band. They earned their first ACM Award nomination for Group of the Year\, achieved their first RIAA Gold certification for their breakout single “A Life Where We Work Out\,” and made their mark in film and television with contributions to the Twisters and The Hungerames: The Ballad of Songbirds & Snakes soundtracks\, as well as featured placements on Yellowstone and Landman. Their relentless touring schedule reached new heights\, including sold-out headline performances at Fort Worth’s Dickies Arena and the legendary Red Rocks Amphitheatre. \nSince first emerging in 2014\, Flatland Cavalry has racked up six #1 singles on Texas Country Radio and amassed more than 500 million streams. Along the way\, they’ve shared the stage with Willie Nelson\, Luke Combs\, Lainey Wilson\, Jordan Davis\, Midland\, and more—proving that their brand of storytelling and musicianship resonates far beyond their roots. \nFlatland Cavalry is Cleto Cordero (vocals\, acoustic guitar)\, Jason Albers (drums\, percussion)\, Jonathan Saenz (bass)\, Reid Dillon (electric guitar)\, Wesley Hall (fiddle)\, and Adam Gallegos (piano\, organ\, keys\, mandolin\, banjo).
URL:https://wdvx.com/event/flatland-cavalry-knoxville-civic-auditorium-4-18/
LOCATION:Knoxville Civic Auditorium\, 500 Howard Baker Jr Drive\, KNOXVILLE\, TN\, 37915
CATEGORIES:Featured Events
ATTACH;FMTTYPE=image/png:https://wdvx.com/site/wp-content/uploads/2026/03/Group-1264.png
END:VEVENT
END:VCALENDAR